BEGIN:VCALENDAR
VERSION:2.0
PRODID:-//eventon.com NONSGML v1.0//EN
CALSCALE:GREGORIAN
METHOD:PUBLISH
BEGIN:VEVENT
UID:69ec04c07733f
DTSTAMP:20260425T000312Z
DTSTART:20240822T170000Z
DTEND:20240822T190000Z
LOCATION:Veteran Career Fairs https://vr.veterancareerfairs.com/event/vr/login
SUMMARY:Veterans Virtual Career Fair
DESCRIPTION:This event is open to service members\,  veterans\,  guard/rese
 rvists\,  and spouses. Chat with recruiters from a wide range of companies 
 from the convenience of home. Dress to impress as some of the companies att
 ending do offer on-the-spot video interviews. Register HERE If you are a co
 mpany interested in attending\,  you[..]\nhttps://veteranrecruiting.com/car
 eerfairs/911/
URL:https://veteranrecruiting.com/careerfairs/911/
END:VEVENT
END:VCALENDAR