BEGIN:VCALENDAR
VERSION:2.0
PRODID:-//eventon.com NONSGML v1.0//EN
CALSCALE:GREGORIAN
METHOD:PUBLISH
BEGIN:VEVENT
UID:69e746abd89b4
DTSTAMP:20260421T094307Z
DTSTART:20220908T000000Z
DTEND:20220908T020000Z
LOCATION:https://vr.veterancareerfairs.com/event/vr/en-us
SUMMARY:Work-from-Home Virtual Career Fair
DESCRIPTION:Work-From-Home Veterans\,  a division of Veteran Recruiting\,  
 invites you to register and attend our first virtual career fair for REMOTE
  job opportunities. This event will only feature companies and jobs that wi
 ll allow you to work remotely. This is an excellent opportunity to show you
 r remote skills by interacting with[..]\nhttps://veteranrecruiting.com/care
 erfairs/wfhsep7/var/event_access
URL:https://veteranrecruiting.com/careerfairs/wfhsep7/var/event_access
END:VEVENT
END:VCALENDAR