BEGIN:VCALENDAR
VERSION:2.0
PRODID:-//eventon.com NONSGML v1.0//EN
CALSCALE:GREGORIAN
METHOD:PUBLISH
BEGIN:VEVENT
UID:69e5e6fe29697
DTSTAMP:20260420T084238Z
DTSTART:20191017T130000Z
DTEND:20191017T150000Z
LOCATION:
SUMMARY:Penske Virtual Career Fair
DESCRIPTION:Penske invites you to attend their virtual career fair on Octob
 er 17 to chat with their recruiters. Penske has hundreds of positions avail
 able across the country within its Truck Rental and Logistics division. Reg
 ister or Login\nhttps://veteranrecruiting.com/careerfairs/penske1017/
URL:https://veteranrecruiting.com/careerfairs/penske1017/
END:VEVENT
END:VCALENDAR